BEGIN:VCALENDAR
VERSION:2.0
PRODID:-//wp-events-plugin.com//7.2.3.1//EN
BEGIN:VEVENT
UID:20@sone.fr
DTSTART:20230913T183000Z
DTEND:20230913T203000Z
DTSTAMP:20230423T205817Z
URL:https://www.sone.fr/events/reunion-de-rentree-des-adherents/
SUMMARY:Réunion de rentrée des adhérents
DESCRIPTION:
END:VEVENT
END:VCALENDAR